BEGIN:VCALENDAR
VERSION:2.0
PRODID:-//SportPlan//Event Calendar//EN
CALSCALE:GREGORIAN
BEGIN:VEVENT
UID:a7537ca9-aea8-4fce-af6f-ff7da28b2eb9@sportplan.local
DTSTAMP:20260421T200758Z
DTSTART;VALUE=DATE:20260109
DTEND;VALUE=DATE:20260113
SUMMARY:Wodapalooza Miami 2026
DESCRIPTION:Official Wodapalooza Miami Beach page for the 2026 fitness festival in Miami. The organizer describes it as a multi-day competition and fitness festival with more than 2\,000 athletes\, seminars\, workshops\, and a large expo for mass-participation fitness fans.
LOCATION:Miami\, Florida
URL:https://sportplan.vercel.app/ja/events/wodapalooza-miami-2026-miami-2026-01-09
END:VEVENT
END:VCALENDAR
