BEGIN:VCALENDAR
VERSION:2.0
PRODID:-//SportPlan//Event Calendar//EN
CALSCALE:GREGORIAN
BEGIN:VEVENT
UID:2d35a984-a3b5-4002-9e90-2e9e0c83705e@sportplan.local
DTSTAMP:20260421T185322Z
DTSTART;VALUE=DATE:20260301
DTEND;VALUE=DATE:20260302
SUMMARY:Vertikalm Júnior
DESCRIPTION:Vertikalm uses the official GECA Vertikalm page as the participant-facing home for the Sant Privat d’en Bas uphill-running event family\, where the organizer publishes classifications\, photos\, and program information for the youth and open categories on the Puigsacalm-side course.
LOCATION:Sant Privat d'en Bas\, Girona\, Cataluña
URL:https://sportplan.vercel.app/ja/events/vertikalm-junior-sant-privat-d-en-bas-2026-03-01-5k
END:VEVENT
END:VCALENDAR
