BEGIN:VCALENDAR
VERSION:2.0
PRODID:-//SportPlan//Event Calendar//EN
CALSCALE:GREGORIAN
BEGIN:VEVENT
UID:a0777a62-7399-4a55-8a12-d719d81aeac7@sportplan.local
DTSTAMP:20260421T190221Z
DTSTART;VALUE=DATE:20260301
DTEND;VALUE=DATE:20260302
SUMMARY:Vertikalm Cadet
DESCRIPTION:Vertikalm Cadet uses the official GECA Vertikalm site as its participant-facing home for the Sant Privat d'en Bas uphill-running event family. The official page carries Vertikalm branding\, classification archives\, and organizer-hosted media for the youth and open race program on the Puigsacalm-side course.
LOCATION:Sant Privat d'en Bas\, Girona\, Cataluña
URL:https://sportplan.vercel.app/ja/events/vertikalm-cadet-sant-privat-d-en-bas-2026-03-01-2-5k
END:VEVENT
END:VCALENDAR
