BEGIN:VCALENDAR
VERSION:2.0
PRODID:-//SportPlan//Event Calendar//EN
CALSCALE:GREGORIAN
BEGIN:VEVENT
UID:635343a1-32da-4de7-be59-20fcd6b68fa3@sportplan.local
DTSTAMP:20260422T002638Z
DTSTART;VALUE=DATE:20260613
DTEND;VALUE=DATE:20260614
SUMMARY:Vätternrundan Cycling 300K 2026
DESCRIPTION:Vätternrundan Cycling 300K 2026 arrangeras i Motala\, Östergötland den 13 juni 2026. Det här loppet erbjuder en välorganiserad upplevelse för löpare\, med en distans på cirka 300 km. Du kan räkna med fin stämning\, en motiverande bana och en stark tävlingsdag i Motala\, Östergötland.
LOCATION:Motala\, Östergötland
URL:https://sportplan.vercel.app/ja/events/v-tternrundan-cycling-300k-2026-motala-2026-06-13
END:VEVENT
END:VCALENDAR
