BEGIN:VCALENDAR
VERSION:2.0
PRODID:-//SportPlan//Event Calendar//EN
CALSCALE:GREGORIAN
BEGIN:VEVENT
UID:cb61e613-2593-4b2e-8109-c5a6e946ef16@sportplan.local
DTSTAMP:20260421T215947Z
DTSTART;VALUE=DATE:20260726
DTEND;VALUE=DATE:20260727
SUMMARY:V Triatlón el Paredón 70.3 — Promocional el Paredón
DESCRIPTION:
LOCATION:El Paredón Buena Vista
URL:https://sportplan.vercel.app/ja/events/v-triatlon-el-paredon-70-3-promocional-el-paredon-el-paredon-buena-vista-2026-07-26
END:VEVENT
END:VCALENDAR
