BEGIN:VCALENDAR
VERSION:2.0
PRODID:-//SportPlan//Event Calendar//EN
CALSCALE:GREGORIAN
BEGIN:VEVENT
UID:43359e73-896c-43bb-b89b-0fa155835dd5@sportplan.local
DTSTAMP:20260421T215941Z
DTSTART;VALUE=DATE:20260726
DTEND;VALUE=DATE:20260727
SUMMARY:V TRIATLÓN EL PAREDÓN 70.3 — 70.3 EL PAREDÓN
DESCRIPTION:
LOCATION:El Paredón Buena Vista
URL:https://sportplan.vercel.app/ja/events/v-triatlon-el-paredon-70-3-70-3-el-paredon-el-paredon-buena-vista-2026-07-26
END:VEVENT
END:VCALENDAR
