BEGIN:VCALENDAR
VERSION:2.0
PRODID:-//SportPlan//Event Calendar//EN
CALSCALE:GREGORIAN
BEGIN:VEVENT
UID:aa2171ac-6a1e-42c5-8a84-5847a31fa63a@sportplan.local
DTSTAMP:20260421T215948Z
DTSTART;VALUE=DATE:20260726
DTEND;VALUE=DATE:20260727
SUMMARY:V Triatlón el Paredón 70.3 — 70.3 el Paredón 70.3K
DESCRIPTION:V Triatlón el Paredón 70.3 — 70.3 el Paredón 70.3K will take place on July 26\, 2026 in El Paredón Buena Vista. It is a solid option for participants looking for a well-organized sporting challenge and a rewarding event-day experience. The announced distance is 70.3 km\, which is helpful when planning pacing\, training\, and race-day logistics.
LOCATION:El Paredón Buena Vista
URL:https://sportplan.vercel.app/ja/events/v-triatlon-el-paredon-70-3-70-3-el-paredon-70-3k-el-paredon-buena-vista-2026-07-26
END:VEVENT
END:VCALENDAR
