BEGIN:VCALENDAR
VERSION:2.0
PRODID:-//SportPlan//Event Calendar//EN
CALSCALE:GREGORIAN
BEGIN:VEVENT
UID:e6619129-15bd-42ea-a75f-c98945eddc1c@sportplan.local
DTSTAMP:20260421T224220Z
DTSTART;VALUE=DATE:20261221
DTEND;VALUE=DATE:20261222
SUMMARY:V Mushing Villa de Lerma (Canicross / Mushing)
DESCRIPTION:
LOCATION:Lerma
URL:https://sportplan.vercel.app/ja/events/v-mushing-villa-de-lerma-canicross-mushing
END:VEVENT
END:VCALENDAR
