BEGIN:VCALENDAR
VERSION:2.0
PRODID:-//SportPlan//Event Calendar//EN
CALSCALE:GREGORIAN
BEGIN:VEVENT
UID:6ef10384-bfd8-4ce3-9073-f895bd9fc62a@sportplan.local
DTSTAMP:20260421T200622Z
DTSTART;VALUE=DATE:20260301
DTEND;VALUE=DATE:20260302
SUMMARY:UTMB Mallorca 100m
DESCRIPTION:UTMB Mallorca 100M is presented on the official Mallorca by UTMB site as the longest distance in a four-race trail weekend across the Serra de Tramuntana\, a UNESCO World Heritage mountain landscape in the heart of the Mediterranean.
LOCATION:Mallorca\, Baleares\, Islas Baleares
URL:https://sportplan.vercel.app/ja/events/utmb-mallorca-100m-mallorca-2026-03-01-160k
END:VEVENT
END:VCALENDAR
