BEGIN:VCALENDAR
VERSION:2.0
PRODID:-//SportPlan//Event Calendar//EN
CALSCALE:GREGORIAN
BEGIN:VEVENT
UID:817c2195-ddec-45f4-99a6-f3496b029dce@sportplan.local
DTSTAMP:20260421T200952Z
DTSTART;VALUE=DATE:20260920
DTEND;VALUE=DATE:20260921
SUMMARY:Urban Trail de la Fondation du Souffle
DESCRIPTION:Urban Trail de la Fondation du Souffle aura lieu le 20 septembre 2026 à París. C’est un rendez-vous sportif idéal avec un parcours pensé pour des coureurs de différents niveaux. Une belle option pour viser un chrono solide ou simplement profiter de l’expérience et de l’ambiance de l’événement.
LOCATION:París
URL:https://sportplan.vercel.app/ja/events/urban-trail-de-la-fondation-du-souffle-paris-2026-09-20
END:VEVENT
END:VCALENDAR
