BEGIN:VCALENDAR
VERSION:2.0
PRODID:-//SportPlan//Event Calendar//EN
CALSCALE:GREGORIAN
BEGIN:VEVENT
UID:cd4778f5-f84e-491d-97a0-1154e6650172@sportplan.local
DTSTAMP:20260421T190051Z
DTSTART;VALUE=DATE:20260424
DTEND;VALUE=DATE:20260425
SUMMARY:ÜLEMISTE Grit Estonia
DESCRIPTION:ÜLEMISTE Grit 2026 is presented on the official Eestimaraton event page as an amateur-enterable endurance event at Ülemiste keskus in Tallinn on Friday 24 April 2026. The official organizer lists public 1-hour\, 2-hour\, and 3-hour run or walk formats plus a virtual option\, with participant registration handled through the linked Jooks registration platform.
LOCATION:Estonia
URL:https://sportplan.vercel.app/ja/events/ulemiste-grit-estonia-2026-04-24
END:VEVENT
END:VCALENDAR
