BEGIN:VCALENDAR
VERSION:2.0
PRODID:-//SportPlan//Event Calendar//EN
CALSCALE:GREGORIAN
BEGIN:VEVENT
UID:26a48bbd-b304-46d5-bb7b-4c444904d50f@sportplan.local
DTSTAMP:20260422T015623Z
DTSTART;VALUE=DATE:20260517
DTEND;VALUE=DATE:20260518
SUMMARY:Tulcea TriKids Triatlon 2026
DESCRIPTION:Tulcea TriKids Triatlon 2026 is an official Romanian youth sprint triathlon on 17 May 2026 in Tulcea. The Romanian Triathlon Federation event page publishes the event as a participant-facing TriKids race with official date\, venue\, and imagery for amateur junior entrants.
LOCATION:Tulcea
URL:https://sportplan.vercel.app/ja/events/tulcea-trikids-triatlon-2026-tulcea-2026-05-17
END:VEVENT
END:VCALENDAR
