BEGIN:VCALENDAR
VERSION:2.0
PRODID:-//SportPlan//Event Calendar//EN
CALSCALE:GREGORIAN
BEGIN:VEVENT
UID:e94b60f4-a961-491b-bf96-8926aad3c1dc@sportplan.local
DTSTAMP:20260422T015506Z
DTSTART;VALUE=DATE:20260517
DTEND;VALUE=DATE:20260518
SUMMARY:Tulcea Triatlon 2026
DESCRIPTION:Tulcea Triatlon 2026 is an official Romanian Triathlon Federation race in Tulcea on 17 May 2026. The federation event page publishes the participant-facing race listing\, official image\, location in Tulcea\, and organizer metadata on the federation-owned domain.
LOCATION:Tulcea
URL:https://sportplan.vercel.app/ja/events/tulcea-triatlon-2026-tulcea-2026-05-17
END:VEVENT
END:VCALENDAR
