BEGIN:VCALENDAR
VERSION:2.0
PRODID:-//SportPlan//Event Calendar//EN
CALSCALE:GREGORIAN
BEGIN:VEVENT
UID:962b8553-f22b-40f9-9127-9a18a6ca403c@sportplan.local
DTSTAMP:20260421T200633Z
DTSTART;VALUE=DATE:20260328
DTEND;VALUE=DATE:20260329
SUMMARY:TRIKids Duatlon 2026
DESCRIPTION:TRIKids Duatlon 2026 is an official Romanian youth duathlon on 28 March 2026 at Iarcuri Cornești in Timiș County. The Romanian Triathlon Federation event page presents this participant-facing TriKids race with Ride Competition organizer attribution and official event imagery.
LOCATION:Iarcuri Cornești
URL:https://sportplan.vercel.app/ja/events/trikids-duatlon-2026-cornesti-2026-03-28
END:VEVENT
END:VCALENDAR
