BEGIN:VCALENDAR
VERSION:2.0
PRODID:-//SportPlan//Event Calendar//EN
CALSCALE:GREGORIAN
BEGIN:VEVENT
UID:4c0d5b27-d0d5-4541-b2c7-4aa78f0673ab@sportplan.local
DTSTAMP:20260421T200947Z
DTSTART;VALUE=DATE:20260321
DTEND;VALUE=DATE:20260322
SUMMARY:TRIKids Aquatlon by Sport Guru - Pro Speed 2026
DESCRIPTION:TRIKids Aquatlon by Sport Guru - Pro Speed 2026 is an official Romanian youth aquathlon on 21 March 2026 at Complexul Sportiv National Lia Manoliu in București. The Romanian Triathlon Federation event page lists PRO Speed Club as organizer and presents participant-facing location and event details for this amateur-enterable junior multisport race.
LOCATION:Complexul Sportiv National Lia Manoliu\, București
URL:https://sportplan.vercel.app/ja/events/trikids-aquatlon-by-sport-guru-pro-speed-2026-bucuresti-2026-03-21
END:VEVENT
END:VCALENDAR
