BEGIN:VCALENDAR
VERSION:2.0
PRODID:-//SportPlan//Event Calendar//EN
CALSCALE:GREGORIAN
BEGIN:VEVENT
UID:bdb7e68d-d46d-4775-8618-4af3b1e46dca@sportplan.local
DTSTAMP:20260421T213445Z
DTSTART;VALUE=DATE:20260614
DTEND;VALUE=DATE:20260615
SUMMARY:Triathlon Midden Weert
DESCRIPTION:Triathlon Midden Weert is an official Dutch amateur-enterable triathlon event scheduled for 2026-06-14 in Weert\, Limburg\, Netherlands. The Nederlandse Triathlon Bond 2026 national championships page lists the event and links to the organizer's official page. Official site context: Stadstriathlon Weert: Drie dagen\, verschillende gradaties\, verschillende parcoursen.
LOCATION:Weert\, Limburg\, Netherlands
URL:https://sportplan.vercel.app/ja/events/triathlon-midden-weert-weert-2026-06-14
END:VEVENT
END:VCALENDAR
