BEGIN:VCALENDAR
VERSION:2.0
PRODID:-//SportPlan//Event Calendar//EN
CALSCALE:GREGORIAN
BEGIN:VEVENT
UID:d23855a4-8234-457c-955a-8101e716a541@sportplan.local
DTSTAMP:20260421T202550Z
DTSTART;VALUE=DATE:20260426
DTEND;VALUE=DATE:20260427
SUMMARY:Triathlon International de Cannes (06)
DESCRIPTION:Official FFTRI fiche for Triathlon International de Cannes. The federation calendar lists amateur-enterable race formats on 26 April 2026\, and the linked organizer site serves the participant-facing event website.
LOCATION:Cannes\, Provence-Alpes-Côte d'Azur\, France
URL:https://sportplan.vercel.app/ja/events/triathlon-international-de-cannes-06-cannes-2026-04-26
END:VEVENT
END:VCALENDAR
