BEGIN:VCALENDAR
VERSION:2.0
PRODID:-//SportPlan//Event Calendar//EN
CALSCALE:GREGORIAN
BEGIN:VEVENT
UID:b788dabe-bede-4b55-9c69-b47f48a43bb9@sportplan.local
DTSTAMP:20260421T213450Z
DTSTART;VALUE=DATE:20260607
DTEND;VALUE=DATE:20260608
SUMMARY:Transvésubienne Vtt 2026
DESCRIPTION:Transvésubienne Vtt 2026 aura lieu à Nice\, Alpes-Maritimes le 7 juin 2026. C'est un rendez-vous idéal pour profiter de l'ambiance de l'événement sur une distance de 80 km et vivre une expérience sportive bien organisée. Une belle option pour les participants qui veulent se dépasser comme pour ceux qui recherchent une journée active dans un cadre agréable.
LOCATION:Nice\, Alpes-Maritimes
URL:https://sportplan.vercel.app/ja/events/transv-subienne-vtt-2026-nice-2026-06-07
END:VEVENT
END:VCALENDAR
