BEGIN:VCALENDAR
VERSION:2.0
PRODID:-//SportPlan//Event Calendar//EN
CALSCALE:GREGORIAN
BEGIN:VEVENT
UID:2648326d-23a2-410d-9ed4-02c07b85a2a6@sportplan.local
DTSTAMP:20260421T214048Z
DTSTART;VALUE=DATE:20260526
DTEND;VALUE=DATE:20260527
SUMMARY:Trail la Pobla de Montornes 11K
DESCRIPTION:Trail la Pobla de Montornes 11K se celebrará el 26 de mayo de 2026 en La Pobla de Montornès\, Tarragona\, Cataluña. Es una cita ideal para quienes buscan disfrutar del ambiente del evento y vivir una experiencia deportiva bien organizada\, con un recorrido aproximado de 11 km. Perfecto tanto para participantes habituales como para quienes quieren sumar un nuevo reto al calendario.
LOCATION:La Pobla de Montornès\, Tarragona\, Cataluña
URL:https://sportplan.vercel.app/ja/events/trail-la-pobla-de-montornes-11k-la-pobla-de-montornes-2026-05-26-11k
END:VEVENT
END:VCALENDAR
