BEGIN:VCALENDAR
VERSION:2.0
PRODID:-//SportPlan//Event Calendar//EN
CALSCALE:GREGORIAN
BEGIN:VEVENT
UID:195a311d-02c5-443a-b468-9657ca10ba91@sportplan.local
DTSTAMP:20260421T200554Z
DTSTART;VALUE=DATE:20260517
DTEND;VALUE=DATE:20260518
SUMMARY:Trail Events 08
DESCRIPTION:Trail Events 08 aura lieu le 17 mai 2026 à París\, dans un cadre parfait pour profiter de l'événement et de l'ambiance de course. Le parcours laisse attendre une vraie expérience nature\, avec du relief et un terrain qui donneront du caractère à l'épreuve.
LOCATION:París
URL:https://sportplan.vercel.app/ja/events/trail-events-08-paris-2026-05-17
END:VEVENT
END:VCALENDAR
