BEGIN:VCALENDAR
VERSION:2.0
PRODID:-//SportPlan//Event Calendar//EN
CALSCALE:GREGORIAN
BEGIN:VEVENT
UID:6026193e-c6b8-4990-b960-be638578a962@sportplan.local
DTSTAMP:20260422T015356Z
DTSTART;VALUE=DATE:20260424
DTEND;VALUE=DATE:20260426
SUMMARY:Trail de la Chouette
DESCRIPTION:Trail de la Chouette a lieu à Dijon le 24 avril 2026. C’est un rendez-vous parfait pour profiter d’une belle journée de course\, avec un parcours de 65 km\, idéal autant pour viser un chrono que pour profiter de l’ambiance locale. Que vous visiez la performance ou une expérience plus conviviale\, l’événement promet une ambiance motivante du début à la fin.
LOCATION:Dijon
URL:https://sportplan.vercel.app/ja/events/trail-de-la-chouette-dijon-2026-04-24
END:VEVENT
END:VCALENDAR
