BEGIN:VCALENDAR
VERSION:2.0
PRODID:-//SportPlan//Event Calendar//EN
CALSCALE:GREGORIAN
BEGIN:VEVENT
UID:a25c1369-aa98-45f9-91c0-595320039fb2@sportplan.local
DTSTAMP:20260422T002235Z
DTSTART;VALUE=DATE:20260531
DTEND;VALUE=DATE:20260601
SUMMARY:Trail Comaminyana
DESCRIPTION:Trail Comaminyana es una prueba que se celebrará el 2026-05-31 en Barruera\, Lleida. Es una buena opción para quienes buscan una jornada activa y bien organizada\, con un recorrido de 21 km. Ideal tanto para participantes habituales como para quienes quieren sumar una nueva experiencia al calendario.
LOCATION:Barruera\, Lleida
URL:https://sportplan.vercel.app/ja/events/trail-comaminyana-barruera-2026-05-31
END:VEVENT
END:VCALENDAR
