BEGIN:VCALENDAR
VERSION:2.0
PRODID:-//SportPlan//Event Calendar//EN
CALSCALE:GREGORIAN
BEGIN:VEVENT
UID:fa0c6fbd-341f-4324-8a08-d950691d554c@sportplan.local
DTSTAMP:20260422T021156Z
DTSTART;VALUE=DATE:20260524
DTEND;VALUE=DATE:20260525
SUMMARY:Trail Anello del Resegone 2026
DESCRIPTION:Trail Anello del Resegone 2026 is the 6th edition of the official Resegone companion trail on 24 May 2026 in Brumano\, Lombardy. The organizer-owned page confirms open registrations\, a 150-bib cap shared with the event family\, and a participant-facing loop course from Brumano through Passata\, Capanna Alpinisti Monzesi\, Passo del Fò\, Bocca d’Erna\, and Passo del Giuff before returning to Brumano.
LOCATION:Brumano
URL:https://sportplan.vercel.app/ja/events/trail-anello-del-resegone-2026-brumano-2026-05-24
END:VEVENT
END:VCALENDAR
