BEGIN:VCALENDAR
VERSION:2.0
PRODID:-//SportPlan//Event Calendar//EN
CALSCALE:GREGORIAN
BEGIN:VEVENT
UID:a2588737-18fe-4b3c-afd0-aad1ede0254c@sportplan.local
DTSTAMP:20260421T191115Z
DTSTART;VALUE=DATE:20260328
DTEND;VALUE=DATE:20260329
SUMMARY:Tour De Scottsdale - Scottsdale\, AZ
DESCRIPTION:
LOCATION:Scottsdale
URL:https://sportplan.vercel.app/ja/events/tour-de-scottsdale-scottsdale-az-scottsdale-2026-03-28
END:VEVENT
END:VCALENDAR
