BEGIN:VCALENDAR
VERSION:2.0
PRODID:-//SportPlan//Event Calendar//EN
CALSCALE:GREGORIAN
BEGIN:VEVENT
UID:9c9cfe15-0ca8-4835-af7f-e9f9f35e5619@sportplan.local
DTSTAMP:20260421T190624Z
DTSTART;VALUE=DATE:20260321
DTEND;VALUE=DATE:20260322
SUMMARY:Tour De Fields Fun Ride
DESCRIPTION:
LOCATION:Wellton
URL:https://sportplan.vercel.app/ja/events/tour-de-fields-fun-ride-wellton-2026-03-21
END:VEVENT
END:VCALENDAR
