BEGIN:VCALENDAR
VERSION:2.0
PRODID:-//SportPlan//Event Calendar//EN
CALSCALE:GREGORIAN
BEGIN:VEVENT
UID:a12a02c9-1828-416a-adab-aa623b8d8359@sportplan.local
DTSTAMP:20260421T224732Z
DTSTART;VALUE=DATE:20260425
DTEND;VALUE=DATE:20260426
SUMMARY:Three Peaks Fell Race - Uk
DESCRIPTION:The official Three Peaks Race site presents the 71st annual 2026 edition on 25 April 2026 as the classic fell race across Pen-y-ghent\, Whernside\, and Ingleborough\, with entries managed directly by the organizer.
LOCATION:Horton in Ribblesdale
URL:https://sportplan.vercel.app/ja/events/three-peaks-fell-race-uk-horton-in-ribblesdale-2026-04-25
END:VEVENT
END:VCALENDAR
