BEGIN:VCALENDAR
VERSION:2.0
PRODID:-//SportPlan//Event Calendar//EN
CALSCALE:GREGORIAN
BEGIN:VEVENT
UID:40891fa0-5910-4873-a33a-54b93bb5556c@sportplan.local
DTSTAMP:20260421T190733Z
DTSTART;VALUE=DATE:20260321
DTEND;VALUE=DATE:20260322
SUMMARY:The Hairy Roubaix
DESCRIPTION:
LOCATION:Thaxton
URL:https://sportplan.vercel.app/ja/events/the-hairy-roubaix-thaxton-2026-03-21
END:VEVENT
END:VCALENDAR
