BEGIN:VCALENDAR
VERSION:2.0
PRODID:-//SportPlan//Event Calendar//EN
CALSCALE:GREGORIAN
BEGIN:VEVENT
UID:6471c614-98e5-45cd-8f65-fe979e2daffc@sportplan.local
DTSTAMP:20260421T200743Z
DTSTART;VALUE=DATE:20260426
DTEND;VALUE=DATE:20260427
SUMMARY:Tcs London Marathon
DESCRIPTION:Official London Marathon Events page for the TCS London Marathon on Sunday 26 April 2026. The page describes it as one of the Abbott World Marathon Majors and highlights marathon-week logistics\, the Running Show at ExCeL\, and participant support for the 2026 race.
LOCATION:Ciudad de Westminster
URL:https://sportplan.vercel.app/ja/events/tcs-london-marathon-ciudad-de-westminster-2026-04-26
END:VEVENT
END:VCALENDAR
