BEGIN:VCALENDAR
VERSION:2.0
PRODID:-//SportPlan//Event Calendar//EN
CALSCALE:GREGORIAN
BEGIN:VEVENT
UID:5df9b055-6d12-4de3-99da-bdec1fd53c97@sportplan.local
DTSTAMP:20260421T185606Z
DTSTART;VALUE=DATE:20260118
DTEND;VALUE=DATE:20260119
SUMMARY:Tata Mumbai Marathon 2026
DESCRIPTION:Official Procam road-running event in Mumbai on 18 January 2026. The Tata Mumbai Marathon site presents the race as one of India's flagship mass-participation runs\, with marathon\, half marathon and shorter public race categories in Mumbai.
LOCATION:Mumbai\, Maharashtra
URL:https://sportplan.vercel.app/ja/events/tata-mumbai-marathon-2026-mumbai-2026-01-18
END:VEVENT
END:VCALENDAR
