BEGIN:VCALENDAR
VERSION:2.0
PRODID:-//SportPlan//Event Calendar//EN
CALSCALE:GREGORIAN
BEGIN:VEVENT
UID:7548ca8a-aeeb-413f-9316-119f2ff9778d@sportplan.local
DTSTAMP:20260421T190853Z
DTSTART;VALUE=DATE:20260214
DTEND;VALUE=DATE:20260215
SUMMARY:Tarawera Ultramarathon 50K 2026
DESCRIPTION:Tarawera Ultra-Trail by UTMB is New Zealand's premier ultra-trail running event in Rotorua\, with point-to-point courses through lakes\, waterfalls\, and native forest. The official event site presents the T50 as part of a wider trail festival welcoming runners across multiple distances on mostly runnable terrain.
LOCATION:Rotorua\, Bay of Plenty
URL:https://sportplan.vercel.app/ja/events/tarawera-ultramarathon-50k-2026-rotorua-2026-02-14
END:VEVENT
END:VCALENDAR
