BEGIN:VCALENDAR
VERSION:2.0
PRODID:-//SportPlan//Event Calendar//EN
CALSCALE:GREGORIAN
BEGIN:VEVENT
UID:e2da6d6e-dd2f-4b1e-a980-acc8a230ab26@sportplan.local
DTSTAMP:20260421T200950Z
DTSTART;VALUE=DATE:20260926
DTEND;VALUE=DATE:20260927
SUMMARY:T24 le Touquet
DESCRIPTION:T24 le Touquet aura lieu le 26 septembre 2026 à Le Touquet-Paris-Plage\, avec une ambiance sportive pensée pour les participants en quête d'un défi bien organisé. L'événement permet de profiter du cadre\, de partager un beau moment avec les autres participants et de vivre une expérience dynamique du départ à l'arrivée.
LOCATION:Le Touquet-Paris-Plage
URL:https://sportplan.vercel.app/ja/events/t24-le-touquet-le-touquet-paris-plage-2026-09-26
END:VEVENT
END:VCALENDAR
