BEGIN:VCALENDAR
VERSION:2.0
PRODID:-//SportPlan//Event Calendar//EN
CALSCALE:GREGORIAN
BEGIN:VEVENT
UID:9bc0ee6d-51e3-4dfa-a7e5-07b60403661f@sportplan.local
DTSTAMP:20260422T021259Z
DTSTART;VALUE=DATE:20260920
DTEND;VALUE=DATE:20260921
SUMMARY:Superliga Supersprint RO 3 2026
DESCRIPTION:Superliga Supersprint RO 3 2026 is an official Romanian Triathlon Federation supersprint triathlon race on 20 September 2026 in Pantelimon\, Ilfov. The federation event page lists Unstoppable Sport Club as organizer and provides the official participant-facing event page and race image.
LOCATION:Pantelimon
URL:https://sportplan.vercel.app/ja/events/superliga-supersprint-ro-3-2026-pantelimon-2026-09-20
END:VEVENT
END:VCALENDAR
