BEGIN:VCALENDAR
VERSION:2.0
PRODID:-//SportPlan//Event Calendar//EN
CALSCALE:GREGORIAN
BEGIN:VEVENT
UID:8e97ee15-dc85-449a-8575-03dd9da9d0bb@sportplan.local
DTSTAMP:20260422T021119Z
DTSTART;VALUE=DATE:20260517
DTEND;VALUE=DATE:20260518
SUMMARY:Superliga RO 16+ ani 2026
DESCRIPTION:Superliga RO 16+ ani 2026 is an official Romanian Triathlon Federation youth and junior triathlon race on 17 May 2026 in Tulcea. The federation event page lists it inside the national Superliga series with participant-facing event branding\, official imagery\, and Tulcea venue details on the organizer-owned domain.
LOCATION:Tulcea
URL:https://sportplan.vercel.app/ja/events/superliga-ro-16-plus-ani-2026-tulcea-2026-05-17
END:VEVENT
END:VCALENDAR
