BEGIN:VCALENDAR
VERSION:2.0
PRODID:-//SportPlan//Event Calendar//EN
CALSCALE:GREGORIAN
BEGIN:VEVENT
UID:997dc38f-845d-4367-8841-dd7e2f4db083@sportplan.local
DTSTAMP:20260421T184506Z
DTSTART;VALUE=DATE:20260215
DTEND;VALUE=DATE:20260216
SUMMARY:Split Marathon 2026
DESCRIPTION:Split Marathon 2026 starts and finishes on the Riva in Split and follows a city-to-coast course linking the waterfront\, historic streets\, Poljud\, Bačvice\, and the Žnjan shoreline in a full marathon through Dalmatia's largest coastal city.
LOCATION:Split\, Split-Dalmatia
URL:https://sportplan.vercel.app/ja/events/split-marathon-2026-split-2026-02-15
END:VEVENT
END:VCALENDAR
