BEGIN:VCALENDAR
VERSION:2.0
PRODID:-//SportPlan//Event Calendar//EN
CALSCALE:GREGORIAN
BEGIN:VEVENT
UID:5e42f399-4c19-458c-8ee1-98f4b291ad32@sportplan.local
DTSTAMP:20260421T213859Z
DTSTART;VALUE=DATE:20261017
DTEND;VALUE=DATE:20261020
SUMMARY:Santa Susanna-Barcelona Spartan Weekend 2026
DESCRIPTION:Santa Susanna-Barcelona Spartan Weekend 2026 is an official amateur OCR weekend in Santa Susanna\, Catalonia\, Spain from 17 to 19 October 2026. The official Spartan Barcelona race page lists the 2026 Santa Susanna weekend and open Sprint\, Super\, Beast\, and Kids Race participation for regular athletes.
LOCATION:Santa Susanna\, Catalonia
URL:https://sportplan.vercel.app/ja/events/spartan-race-barcelona-2026-barcelona-2026-10-25
END:VEVENT
END:VCALENDAR
