BEGIN:VCALENDAR
VERSION:2.0
PRODID:-//SportPlan//Event Calendar//EN
CALSCALE:GREGORIAN
BEGIN:VEVENT
UID:04b80c74-f2f1-4b4c-84ac-ad312cb0acb8@sportplan.local
DTSTAMP:20260421T215638Z
DTSTART;VALUE=DATE:20260124
DTEND;VALUE=DATE:20260125
SUMMARY:Snowrunning Larra Belagua
DESCRIPTION:Official X Snowrunning Larra Belagua 2026 page for the amateur-enterable snowrunning race at Belagua\, Navarra\, scheduled for 2026-01-24. The organizer page confirms the Spanish championship setting\, the 2026 edition details\, and participant information for the recurring Larra-Belagua snow event.
LOCATION:Belagua\, Navarra
URL:https://sportplan.vercel.app/ja/events/snowrunning-larra-belagua-belagua-2026-01-24
END:VEVENT
END:VCALENDAR
