BEGIN:VCALENDAR
VERSION:2.0
PRODID:-//SportPlan//Event Calendar//EN
CALSCALE:GREGORIAN
BEGIN:VEVENT
UID:6a5ebc09-91f2-42f7-b6ae-c07e75047b37@sportplan.local
DTSTAMP:20260421T190222Z
DTSTART;VALUE=DATE:20260117
DTEND;VALUE=DATE:20260118
SUMMARY:Snow Run Resinelli 2026
DESCRIPTION:Snow Run Resinelli 2026 is listed on the official Skyrunning Italia 2026 calendar for 17 January 2026 at Piani dei Resinelli in Lombardy\, with the official organizer website hosted at snowmanresinelli.it. The official source family supports this as an amateur-enterable winter mountain running event\, even though a stable official poster image was not extractable in this runtime.
LOCATION:Piani dei Resinelli
URL:https://sportplan.vercel.app/ja/events/snow-run-resinelli-2026-piani-dei-resinelli-2026-01-17
END:VEVENT
END:VCALENDAR
