BEGIN:VCALENDAR
VERSION:2.0
PRODID:-//SportPlan//Event Calendar//EN
CALSCALE:GREGORIAN
BEGIN:VEVENT
UID:83c4098e-17de-462d-a905-bc8b4957d1e4@sportplan.local
DTSTAMP:20260421T190640Z
DTSTART;VALUE=DATE:20260322
DTEND;VALUE=DATE:20260323
SUMMARY:Six Pack Outdoors: High Plains Hustle
DESCRIPTION:
LOCATION:Amarillo
URL:https://sportplan.vercel.app/ja/events/six-pack-outdoors-high-plains-hustle-amarillo-2026-03-22
END:VEVENT
END:VCALENDAR
