BEGIN:VCALENDAR
VERSION:2.0
PRODID:-//SportPlan//Event Calendar//EN
CALSCALE:GREGORIAN
BEGIN:VEVENT
UID:d9c1db1e-bcf9-4ad4-aa30-819e35ad0da9@sportplan.local
DTSTAMP:20260421T191331Z
DTSTART;VALUE=DATE:20260328
DTEND;VALUE=DATE:20260329
SUMMARY:Shenandoah Neighborhood Bike Ride
DESCRIPTION:
LOCATION:Baton Rouge
URL:https://sportplan.vercel.app/ja/events/shenandoah-neighborhood-bike-ride-baton-rouge-2026-03-28
END:VEVENT
END:VCALENDAR
