BEGIN:VCALENDAR
VERSION:2.0
PRODID:-//SportPlan//Event Calendar//EN
CALSCALE:GREGORIAN
BEGIN:VEVENT
UID:1973f5b4-0e47-4910-9578-6a9a22309afe@sportplan.local
DTSTAMP:20260421T200854Z
DTSTART;VALUE=DATE:20260301
DTEND;VALUE=DATE:20260302
SUMMARY:Senpereko Trail
DESCRIPTION:Senpereko Trail is the main race of the official event weekend in Saint-Pée-sur-Nivelle\, with a 21.5 km course through Basque hills and forests and views toward La Rhune and the surrounding mountains.
LOCATION:Saint-Pée-sur-Nivelle
URL:https://sportplan.vercel.app/ja/events/senpereko-trail-saint-pee-sur-nivelle-2026-03-01-21-5k
END:VEVENT
END:VCALENDAR
