BEGIN:VCALENDAR
VERSION:2.0
PRODID:-//SportPlan//Event Calendar//EN
CALSCALE:GREGORIAN
BEGIN:VEVENT
UID:de061680-819a-49eb-b3ad-2fff11b231bc@sportplan.local
DTSTAMP:20260421T213119Z
DTSTART;VALUE=DATE:20260519
DTEND;VALUE=DATE:20260520
SUMMARY:Selva Trail 9K
DESCRIPTION:Selva Trail 9K se celebrará el 19 mayo 2026 en La Selva del Camp\, Tarragona\, Cataluña. Con una distancia de 9 km\, propone un recorrido exigente pero accesible para quienes buscan un buen reto. Ideal para quienes quieren marcarse un objetivo de temporada y vivir una jornada bien organizada en un entorno especial.
LOCATION:La Selva del Camp\, Tarragona\, Cataluña
URL:https://sportplan.vercel.app/ja/events/selva-trail-9k-la-selva-del-camp-2026-05-19-9k
END:VEVENT
END:VCALENDAR
