BEGIN:VCALENDAR
VERSION:2.0
PRODID:-//SportPlan//Event Calendar//EN
CALSCALE:GREGORIAN
BEGIN:VEVENT
UID:1ab451c2-cc4e-47f4-894b-045fa1274e20@sportplan.local
DTSTAMP:20260421T213758Z
DTSTART;VALUE=DATE:20260519
DTEND;VALUE=DATE:20260520
SUMMARY:Selva Trail 14K
DESCRIPTION:Selva Trail 14K se celebrará el 19 mayo 2026 en La Selva del Camp\, Tarragona\, Cataluña. Con una distancia de 14 km\, propone un recorrido exigente pero accesible para quienes buscan un buen reto. Ideal para quienes quieren marcarse un objetivo de temporada y vivir una jornada bien organizada en un entorno especial.
LOCATION:La Selva del Camp\, Tarragona\, Cataluña
URL:https://sportplan.vercel.app/ja/events/selva-trail-14k-la-selva-del-camp-2026-05-19-14k
END:VEVENT
END:VCALENDAR
