BEGIN:VCALENDAR
VERSION:2.0
PRODID:-//SportPlan//Event Calendar//EN
CALSCALE:GREGORIAN
BEGIN:VEVENT
UID:f448381e-b785-40e3-aa2a-efda63889be0@sportplan.local
DTSTAMP:20260421T231601Z
DTSTART;VALUE=DATE:20260501
DTEND;VALUE=DATE:20260502
SUMMARY:Run Festival Tossa - 17K Trail
DESCRIPTION:Run Festival Tossa - 17K Trail se celebrará el 1/5/2026 en Tossa de Mar\, Girona\, Cataluña\, ES\, con un recorrido de 17 km. Es una gran oportunidad para disfrutar del ambiente del evento\, marcarte un objetivo deportivo y vivir una jornada activa en un entorno especial.
LOCATION:Tossa de Mar\, Girona\, Cataluña
URL:https://sportplan.vercel.app/ja/events/run-festival-tossa-17k-trail-tossa-de-mar-2026-05-01-17k
END:VEVENT
END:VCALENDAR
