BEGIN:VCALENDAR
VERSION:2.0
PRODID:-//SportPlan//Event Calendar//EN
CALSCALE:GREGORIAN
BEGIN:VEVENT
UID:636acdc9-0d3a-4aab-976b-20f0c0863142@sportplan.local
DTSTAMP:20260421T215326Z
DTSTART;VALUE=DATE:20260502
DTEND;VALUE=DATE:20260503
SUMMARY:Rotorua Marathon 2026
DESCRIPTION:Rotorua Marathon 2026 is the official Red Stag Rotorua Marathon weekend on 2 May 2026\, with marathon\, half marathon\, 10K\, and 5K distances around Lake Rotorua presented on the organizer's event site.
LOCATION:Rotorua\, Bay of Plenty
URL:https://sportplan.vercel.app/ja/events/rotorua-marathon-2026-rotorua-2026-05-02
END:VEVENT
END:VCALENDAR
