BEGIN:VCALENDAR
VERSION:2.0
PRODID:-//SportPlan//Event Calendar//EN
CALSCALE:GREGORIAN
BEGIN:VEVENT
UID:9add2896-9a8c-4a92-ade0-a492cd267a53@sportplan.local
DTSTAMP:20260421T190623Z
DTSTART;VALUE=DATE:20260321
DTEND;VALUE=DATE:20260322
SUMMARY:Riverside Ride
DESCRIPTION:
LOCATION:Victoria
URL:https://sportplan.vercel.app/ja/events/riverside-ride-victoria-2026-03-21
END:VEVENT
END:VCALENDAR
