BEGIN:VCALENDAR
VERSION:2.0
PRODID:-//SportPlan//Event Calendar//EN
CALSCALE:GREGORIAN
BEGIN:VEVENT
UID:3ebdc54f-b8aa-4982-9cd5-a6062ad8330c@sportplan.local
DTSTAMP:20260421T213845Z
DTSTART;VALUE=DATE:20260524
DTEND;VALUE=DATE:20260525
SUMMARY:Ridelondon 100 2026
DESCRIPTION:
LOCATION:London\, England
URL:https://sportplan.vercel.app/ja/events/ridelondon-100-2026-london-2026-05-24
END:VEVENT
END:VCALENDAR
