BEGIN:VCALENDAR
VERSION:2.0
PRODID:-//SportPlan//Event Calendar//EN
CALSCALE:GREGORIAN
BEGIN:VEVENT
UID:9f5612f1-83b2-47e9-9122-ffdf74ab07dc@sportplan.local
DTSTAMP:20260422T015701Z
DTSTART;VALUE=DATE:20260502
DTEND;VALUE=DATE:20260503
SUMMARY:Red Stag Rotorua Marathon 2026
DESCRIPTION:Red Stag Rotorua Marathon 2026 is the official Rotorua road-running festival on 2 May 2026. The official event site describes it as Aotearoa’s most enduring marathon since 1965 and lists the Red Stag Marathon\, NZCT Half Marathon\, Te Puia 10 KM\, and Wai Ariki 5 KM around the iconic loop of Lake Rotorua.
LOCATION:Rotorua\, New Zealand
URL:https://sportplan.vercel.app/ja/events/red-stag-rotorua-marathon-2026-2026-05-02
END:VEVENT
END:VCALENDAR
