BEGIN:VCALENDAR
VERSION:2.0
PRODID:-//SportPlan//Event Calendar//EN
CALSCALE:GREGORIAN
BEGIN:VEVENT
UID:660f09a7-922a-4cd4-a8c7-405de57569a6@sportplan.local
DTSTAMP:20260421T200742Z
DTSTART;VALUE=DATE:20260221
DTEND;VALUE=DATE:20260222
SUMMARY:Raquetas Vall de Boí 2026
DESCRIPTION:Raquetas Vall de Boí 2026 uses the Vall de Boí official destination site as its current canonical source for participant-facing information about the snowshoe event in the Vall de Boí area. The official destination domain is the safest verified source available for this event listing.
LOCATION:Barruera\, Lleida
URL:https://sportplan.vercel.app/ja/events/raquetas-vall-de-bo-2026-barruera-2026-02-21
END:VEVENT
END:VCALENDAR
