BEGIN:VCALENDAR
VERSION:2.0
PRODID:-//SportPlan//Event Calendar//EN
CALSCALE:GREGORIAN
BEGIN:VEVENT
UID:444d3df0-e710-41e3-90f1-0f19106dbfaf@sportplan.local
DTSTAMP:20260421T215941Z
DTSTART;VALUE=DATE:20260620
DTEND;VALUE=DATE:20260622
SUMMARY:Rad Am Ring Nürburgring 24h 2026
DESCRIPTION:Rad Am Ring Nürburgring 24h 2026 findet am 20. Juni 2026 in Nürburg\, Rhineland-Palatinate statt. Die Veranstaltung bietet eine gute Gelegenheit\, die besondere Atmosphäre vor Ort zu erleben und gemeinsam mit anderen Teilnehmenden dabei zu sein. Prüfen Sie die Veranstaltungsdetails rechtzeitig\, um Ihre Teilnahme optimal zu planen.
LOCATION:Nürburg\, Rhineland-Palatinate
URL:https://sportplan.vercel.app/ja/events/rad-am-ring-n-rburgring-24h-2026-n-rburg-2026-06-20
END:VEVENT
END:VCALENDAR
