BEGIN:VCALENDAR
VERSION:2.0
PRODID:-//SportPlan//Event Calendar//EN
CALSCALE:GREGORIAN
BEGIN:VEVENT
UID:46d27015-2d74-47d7-9754-55060719e022@sportplan.local
DTSTAMP:20260421T192546Z
DTSTART;VALUE=DATE:20260321
DTEND;VALUE=DATE:20260322
SUMMARY:Pedaling 4 Paige - NY
DESCRIPTION:
LOCATION:Liverpool
URL:https://sportplan.vercel.app/ja/events/pedaling-4-paige-ny-liverpool-2026-03-21
END:VEVENT
END:VCALENDAR
